BEGIN:VCALENDAR
VERSION:2.0
PRODID:-//ISCOPE//iscope.de//DE
CALSCALE:GREGORIAN
BEGIN:VEVENT
DTSTART:20270306T100000
DTEND:20270307T170000
LOCATION:SALZBURGARENA
Am Messezentrum 1
5020 Salzburg
DTSTAMP:20260424T144505Z
SUMMARY:4. jobmesse austria in salzburg
DESCRIPTION:
Öffnungszeiten:

UID:153b96f68a75f607fbba97f20db91ebaf612fb85
END:VEVENT
END:VCALENDAR